BEGIN:VCALENDAR
VERSION:2.0
PRODID:-//Universal Studios//release-reminder//EN
BEGIN:VEVENT
UID:tp9e@http://www.americanmade.ie
SEQUENCE:0
DTSTAMP:20170825T000000Z
DTSTART;VALUE=DATE:20170825
X-MICROSOFT-CDO-ALLDAYEVENT:TRUE
X-MICROSOFT-MSNCALENDAR-ALLDAYEVENT:TRUE
SUMMARY:American Made: Get Tickets
DESCRIPTION:Buy tickets now for American Made at
URL;VALUE=URI:http://www.americanmade.ie
END:VEVENT
END:VCALENDAR